BEGIN:VCALENDAR
VERSION:2.0
PRODID:-//NBS//eStore//BSC Fall Career Fair-Currently Closed
CALSCALE:GREGORIAN
METHOD:PUBLISH
BEGIN:VEVENT
DTSTART:20261013T110000
DTEND:20261013T140000
SUMMARY:BSC Fall Career Fair-Currently Closed
LOCATION:1200 Schafer Street , Bismarck, ND, 58501
DESCRIPTION:<p style="text-align: left;"><span style="font-size: 9pt;"><span style="font-size: 11pt; color: #000000; font-family: tahoma, arial, helvetica, sans-serif;">The 2026 BSC Fall Career Fair will be held on Tuesday, October 13, 2026 from 11:00 a.m.-2:00 p.m. in the Bavendick Stateroom at the National Energy Center of Excellence (NECE) on the BSC Campus. 
NECE is located at 1200 Schafer Street, Bismarck, ND.</span><br /></span></p>
PRIORITY:3
END:VEVENT
END:VCALENDAR
